BEGIN:VCALENDAR
VERSION:2.0
PRODID:icalendar-ruby
CALSCALE:GREGORIAN
METHOD:PUBLISH
BEGIN:VEVENT
DTSTAMP:20260425T125559Z
UID:5-409745@crouchcommunity.tithelysetup2.com
DTSTART:20260628T160000Z
DTEND:20260628T170000Z
CLASS:PUBLIC
CREATED:20260423T102809
DESCRIPTION:Sunday Worship
LAST-MODIFIED:20260423T102809
LOCATION:
SUMMARY:Sunday Worship
URL;VALUE=URI:https://crouchcommunity.tithelysetup2.com/events/sunday-worsh
 ip/2026-06-28
END:VEVENT
END:VCALENDAR
