BEGIN:VCALENDAR
VERSION:2.0
PRODID:icalendar-ruby
CALSCALE:GREGORIAN
METHOD:PUBLISH
BEGIN:VEVENT
DTSTAMP:20260424T163556Z
UID:5-409736@crouchcommunity.tithelysetup2.com
DTSTART:20260426T160000Z
DTEND:20260426T170000Z
CLASS:PUBLIC
CREATED:20260423T102809
DESCRIPTION:Sunday Worship
LAST-MODIFIED:20260423T102809
LOCATION:
SUMMARY:Sunday Worship
URL;VALUE=URI:https://crouchcommunity.tithelysetup2.com/events/sunday-worsh
 ip/2026-04-26
END:VEVENT
END:VCALENDAR
